BEGIN:VCALENDAR
VERSION:2.0
PRODID:icalendar-ruby
CALSCALE:GREGORIAN
METHOD:PUBLISH
BEGIN:VEVENT
DTSTAMP:20260422T084317Z
UID:9-1000250@freespiritworshipchurch.org
DTSTART:20260913T143000Z
DTEND:20260913T160000Z
CLASS:PUBLIC
CREATED:20260421T195648
DESCRIPTION:\n  \nSunday Morning Worship by Free Spirit Worship Church\nSun
 day Worship Flyer: http://tinyurl.com/fswcsundayworship\n 
LAST-MODIFIED:20260421T195648
LOCATION:821E Sunnyside Dr\, Virginia Beach\, VA\; Zoom
SUMMARY:Worship Service
URL;VALUE=URI:https://www.freespiritworshipchurch.org/events/worship-servic
 e--7/2026-09-13
ATTACH;FILENAME=jaefrench-bible-1948778_1920.jpg;FMTTYPE=image/jpeg:https:/
 /dq5pwpg1q8ru0.cloudfront.net/2026/03/22/16/49/02/e8b11976-7468-41c5-9956-
 c0b055d8d6b9/jaefrench-bible-1948778_1920.jpg
END:VEVENT
END:VCALENDAR
